BEGIN:VCALENDAR
VERSION:2.0
PRODID:-//East End LOCAL - ECPv6.11.2//NONSGML v1.0//EN
CALSCALE:GREGORIAN
METHOD:PUBLISH
X-WR-CALNAME:East End LOCAL
X-ORIGINAL-URL:https://eastendlocal.com
X-WR-CALDESC:Events for East End LOCAL
REFRESH-INTERVAL;VALUE=DURATION:PT1H
X-Robots-Tag:noindex
X-PUBLISHED-TTL:PT1H
BEGIN:VTIMEZONE
TZID:America/New_York
BEGIN:DAYLIGHT
TZOFFSETFROM:-0500
TZOFFSETTO:-0400
TZNAME:EDT
DTSTART:20260308T070000
END:DAYLIGHT
BEGIN:STANDARD
TZOFFSETFROM:-0400
TZOFFSETTO:-0500
TZNAME:EST
DTSTART:20261101T060000
END:STANDARD
END:VTIMEZONE
BEGIN:VEVENT
DTSTART;TZID=America/New_York:20260212T180000
DTEND;TZID=America/New_York:20260212T203000
DTSTAMP:20260422T051538
CREATED:20260206T183123Z
LAST-MODIFIED:20260206T183123Z
UID:32711-1770919200-1770928200@eastendlocal.com
SUMMARY:17th annual Black History Month celebration
DESCRIPTION:Riverhead Central School District will hold its 17th annual Black History Month celebration at Riverhead High School. The program will include student performances\, districtwide student projects\, and appearances by community guests.
URL:https://eastendlocal.com/event/17th-annual-black-history-month-celebration/
LOCATION:Riverhead High School\, 700 Harrison Ave\,\, Riverhead\, NY\, United States
CATEGORIES:Exhibits & Receptions
GEO:40.928496;-72.675752
X-APPLE-STRUCTURED-LOCATION;VALUE=URI;X-ADDRESS=Riverhead High School 700 Harrison Ave Riverhead NY United States;X-APPLE-RADIUS=500;X-TITLE=700 Harrison Ave\,:geo:-72.675752,40.928496
END:VEVENT
END:VCALENDAR