BEGIN:VCALENDAR
VERSION:2.0
PRODID:-//East End LOCAL - ECPv6.11.2//NONSGML v1.0//EN
CALSCALE:GREGORIAN
METHOD:PUBLISH
X-WR-CALNAME:East End LOCAL
X-ORIGINAL-URL:https://eastendlocal.com
X-WR-CALDESC:Events for East End LOCAL
REFRESH-INTERVAL;VALUE=DURATION:PT1H
X-Robots-Tag:noindex
X-PUBLISHED-TTL:PT1H
BEGIN:VTIMEZONE
TZID:America/New_York
BEGIN:DAYLIGHT
TZOFFSETFROM:-0500
TZOFFSETTO:-0400
TZNAME:EDT
DTSTART:20250309T070000
END:DAYLIGHT
BEGIN:STANDARD
TZOFFSETFROM:-0400
TZOFFSETTO:-0500
TZNAME:EST
DTSTART:20251102T060000
END:STANDARD
END:VTIMEZONE
BEGIN:VEVENT
DTSTART;TZID=America/New_York:20250726T200000
DTEND;TZID=America/New_York:20250726T210000
DTSTAMP:20260423T071453
CREATED:20250715T174913Z
LAST-MODIFIED:20250725T160746Z
UID:31820-1753560000-1753563600@eastendlocal.com
SUMMARY:Bee Gees Gold The Tribute Returns to the Suffolk
DESCRIPTION:The Suffolk Theater is set to host Bee Gees Gold The Tribute for two nights of music and dance on July 26 and 27. The performances will start at 8 p.m. each evening. Bee Gees Gold The Tribute is a renowned act that brings to life the unique sound and style of the Bee Gees from the ’60s to the late ’70s. The tribute features: \n– John Acosta as Barry Gibb\, who has performed in Bee Gees tributes all over the world for over 14 years.\n– Eric Sean as Robin Gibb\, a professional singer since the age of 17\, who has performed on stages worldwide.\n– Pete Sprague as Maurice Gibb\, a native of Washington\, D.C.\, who started piano lessons at the age of seven and has performed on stages throughout the country and the world. \nThe tribute will include early hits like ‘Massachusetts\,’ and ‘I Started a Joke\,’ to the later disco classics like ‘Stayin’ Alive\,’ and ‘You Should Be Dancing’ along with Andy Gibb hits. Tickets range from $49 to $79\, plus applicable fees\, and can be purchased online at TheSuffolk.org.
URL:https://eastendlocal.com/event/bee-gees-gold-the-tribute-returns-to-the-suffolk/
LOCATION:The Suffolk\, 118 East Main Street\, Riverhead\, NY\, 11901\, US
CATEGORIES:Music
GEO:40.9177762;-72.6605032
X-APPLE-STRUCTURED-LOCATION;VALUE=URI;X-ADDRESS=The Suffolk 118 East Main Street Riverhead NY 11901 US;X-APPLE-RADIUS=500;X-TITLE=118 East Main Street:geo:-72.6605032,40.9177762
END:VEVENT
END:VCALENDAR