BEGIN:VCALENDAR
VERSION:2.0
PRODID:-//East End LOCAL - ECPv6.11.2//NONSGML v1.0//EN
CALSCALE:GREGORIAN
METHOD:PUBLISH
X-WR-CALNAME:East End LOCAL
X-ORIGINAL-URL:https://eastendlocal.com
X-WR-CALDESC:Events for East End LOCAL
REFRESH-INTERVAL;VALUE=DURATION:PT1H
X-Robots-Tag:noindex
X-PUBLISHED-TTL:PT1H
BEGIN:VTIMEZONE
TZID:America/New_York
BEGIN:DAYLIGHT
TZOFFSETFROM:-0500
TZOFFSETTO:-0400
TZNAME:EDT
DTSTART:20250309T070000
END:DAYLIGHT
BEGIN:STANDARD
TZOFFSETFROM:-0400
TZOFFSETTO:-0500
TZNAME:EST
DTSTART:20251102T060000
END:STANDARD
END:VTIMEZONE
BEGIN:VEVENT
DTSTART;TZID=America/New_York:20250517T110000
DTEND;TZID=America/New_York:20250517T170000
DTSTAMP:20260424T071323
CREATED:20250422T232836Z
LAST-MODIFIED:20250422T232836Z
UID:31413-1747479600-1747501200@eastendlocal.com
SUMMARY:Family Health & Wellness Day at The Shoppes
DESCRIPTION:The Shoppes at East Wind is hosting its first annual Family Health & Wellness Day\, a free event that combines family fun with healthy living. The event will take place on May 17\, 2025\, from 11 a.m. to 5 p.m. This event is open to all ages and features a variety of activities and attractions: \n– Vendors showcasing health and wellness products and services\n– Fitness games to get everyone moving\n– A bounce house for the kids to enjoy\n– Face painting for a touch of fun\n– Mindfulness sessions for those seeking a moment of relaxation \nMore information and a detailed schedule of events will be released soon. In case of inclement weather\, the event will be rescheduled for May 18. Vendor application and sponsorship opportunities are available.
URL:https://eastendlocal.com/event/family-health-wellness-day-at-the-shoppes/
LOCATION:Shoppes at East Wind\, 5768 Route 25A\, Wading River\, NY\, 11792\, United States
CATEGORIES:Youth & Family
ORGANIZER;CN="The Shoppes At East Wind":MAILTO:shoppes@eastwindlongisland.com
GEO:40.94527;-72.819944
X-APPLE-STRUCTURED-LOCATION;VALUE=URI;X-ADDRESS=Shoppes at East Wind 5768 Route 25A Wading River NY 11792 United States;X-APPLE-RADIUS=500;X-TITLE=5768 Route 25A:geo:-72.819944,40.94527
END:VEVENT
END:VCALENDAR