BEGIN:VCALENDAR
VERSION:2.0
PRODID:-//East End LOCAL - ECPv6.11.2//NONSGML v1.0//EN
CALSCALE:GREGORIAN
METHOD:PUBLISH
X-WR-CALNAME:East End LOCAL
X-ORIGINAL-URL:https://eastendlocal.com
X-WR-CALDESC:Events for East End LOCAL
REFRESH-INTERVAL;VALUE=DURATION:PT1H
X-Robots-Tag:noindex
X-PUBLISHED-TTL:PT1H
BEGIN:VTIMEZONE
TZID:America/New_York
BEGIN:DAYLIGHT
TZOFFSETFROM:-0500
TZOFFSETTO:-0400
TZNAME:EDT
DTSTART:20250309T070000
END:DAYLIGHT
BEGIN:STANDARD
TZOFFSETFROM:-0400
TZOFFSETTO:-0500
TZNAME:EST
DTSTART:20251102T060000
END:STANDARD
END:VTIMEZONE
BEGIN:VEVENT
DTSTART;TZID=America/New_York:20251026T133000
DTEND;TZID=America/New_York:20251026T150000
DTSTAMP:20260421T041824
CREATED:20251009T210151Z
LAST-MODIFIED:20251009T210151Z
UID:32218-1761485400-1761490800@eastendlocal.com
SUMMARY:Haunted Theatres of Broadway with Robert Viagas
DESCRIPTION:Join us for an eerie afternoon as Robert Viagas\, the longtime editor at Playbill and current editor-in-chief of Encore Magazine\, narrates the haunted tales of Broadway. Each night\, after the applause dies and the curtain falls\, the audience vanishes\, the cleaners dust and the lights are extinguished\, great theaters become dark and silent places. But not always quite empty. This event will take you on a journey through the ghostly corners of Broadway’s famous theaters. The event is free to attend and is organized by the Riverhead Free Library.
URL:https://eastendlocal.com/event/haunted-theatres-of-broadway-with-robert-viagas/
LOCATION:Riverhead Free Library\, 330 Court Street\, Riverhead\, NY\, 11901\, US
CATEGORIES:Theater
GEO:40.918648;-72.669223
X-APPLE-STRUCTURED-LOCATION;VALUE=URI;X-ADDRESS=Riverhead Free Library 330 Court Street Riverhead NY 11901 US;X-APPLE-RADIUS=500;X-TITLE=330 Court Street:geo:-72.669223,40.918648
END:VEVENT
END:VCALENDAR