BEGIN:VCALENDAR
VERSION:2.0
PRODID:-//East End LOCAL - ECPv6.11.2//NONSGML v1.0//EN
CALSCALE:GREGORIAN
METHOD:PUBLISH
X-WR-CALNAME:East End LOCAL
X-ORIGINAL-URL:https://eastendlocal.com
X-WR-CALDESC:Events for East End LOCAL
REFRESH-INTERVAL;VALUE=DURATION:PT1H
X-Robots-Tag:noindex
X-PUBLISHED-TTL:PT1H
BEGIN:VTIMEZONE
TZID:America/New_York
BEGIN:DAYLIGHT
TZOFFSETFROM:-0500
TZOFFSETTO:-0400
TZNAME:EDT
DTSTART:20250309T070000
END:DAYLIGHT
BEGIN:STANDARD
TZOFFSETFROM:-0400
TZOFFSETTO:-0500
TZNAME:EST
DTSTART:20251102T060000
END:STANDARD
END:VTIMEZONE
BEGIN:VEVENT
DTSTART;TZID=America/New_York:20250607T130000
DTEND;TZID=America/New_York:20250607T170000
DTSTAMP:20260423T100540
CREATED:20250602T223542Z
LAST-MODIFIED:20250602T223542Z
UID:31611-1749301200-1749315600@eastendlocal.com
SUMMARY:Live music at Pindar Vineyards: Vinyl Countdown
DESCRIPTION:Live music at Pindar Vineyards: Vinyl Countdown\, Saturday June 7\, 1 to 5 p.m.
URL:https://eastendlocal.com/event/live-music-at-pindar-vineyards-vinyl-countdown/
LOCATION:Pindar Vineyards\, 37645 Main Road\, Peconic\, NY\, 11958\, United States
CATEGORIES:Music
GEO:41.0348109;-72.4693623
X-APPLE-STRUCTURED-LOCATION;VALUE=URI;X-ADDRESS=Pindar Vineyards 37645 Main Road Peconic NY 11958 United States;X-APPLE-RADIUS=500;X-TITLE=37645 Main Road:geo:-72.4693623,41.0348109
END:VEVENT
END:VCALENDAR