BEGIN:VCALENDAR
VERSION:2.0
PRODID:-//East End LOCAL - ECPv6.11.2//NONSGML v1.0//EN
CALSCALE:GREGORIAN
METHOD:PUBLISH
X-WR-CALNAME:East End LOCAL
X-ORIGINAL-URL:https://eastendlocal.com
X-WR-CALDESC:Events for East End LOCAL
REFRESH-INTERVAL;VALUE=DURATION:PT1H
X-Robots-Tag:noindex
X-PUBLISHED-TTL:PT1H
BEGIN:VTIMEZONE
TZID:America/New_York
BEGIN:DAYLIGHT
TZOFFSETFROM:-0500
TZOFFSETTO:-0400
TZNAME:EDT
DTSTART:20260308T070000
END:DAYLIGHT
BEGIN:STANDARD
TZOFFSETFROM:-0400
TZOFFSETTO:-0500
TZNAME:EST
DTSTART:20261101T060000
END:STANDARD
END:VTIMEZONE
BEGIN:VEVENT
DTSTART;TZID=America/New_York:20260425T193000
DTEND;TZID=America/New_York:20260425T210000
DTSTAMP:20260419T103131
CREATED:20260415T124349Z
LAST-MODIFIED:20260415T124349Z
UID:33024-1777145400-1777150800@eastendlocal.com
SUMMARY:Mudflats String Band concert at Jamesport Meeting House
DESCRIPTION:Mudflats String Band will perform Saturday\, April 25\, at the Jamesport Meeting House. \nThe North Fork group plays traditional Americana rooted in Southern Appalachian music\, drawing on Celtic fiddle and African banjo traditions. The band features fiddle\, banjo\, mandolin\, guitar\, bass and drums\, with electric fiddle incorporated into the arrangements. \nThe Jamesport Meeting House\, built in 1731\, is the oldest public structure on the East End and is known for its acoustics.
URL:https://eastendlocal.com/event/mudflats-string-band-concert-at-jamesport-meeting-house/
LOCATION:Jamesport Meeting House\, 1590 Main Road\, Jamesport\, NY\, 11947\, United States
CATEGORIES:Music
ORGANIZER;CN="Jamesport Meeting House":MAILTO:info@jamesportmeetinghouse.org
GEO:40.9495443;-72.58148
X-APPLE-STRUCTURED-LOCATION;VALUE=URI;X-ADDRESS=Jamesport Meeting House 1590 Main Road Jamesport NY 11947 United States;X-APPLE-RADIUS=500;X-TITLE=1590 Main Road:geo:-72.58148,40.9495443
END:VEVENT
END:VCALENDAR