BEGIN:VCALENDAR
VERSION:2.0
PRODID:-//East End LOCAL - ECPv6.11.2//NONSGML v1.0//EN
CALSCALE:GREGORIAN
METHOD:PUBLISH
X-WR-CALNAME:East End LOCAL
X-ORIGINAL-URL:https://eastendlocal.com
X-WR-CALDESC:Events for East End LOCAL
REFRESH-INTERVAL;VALUE=DURATION:PT1H
X-Robots-Tag:noindex
X-PUBLISHED-TTL:PT1H
BEGIN:VTIMEZONE
TZID:America/New_York
BEGIN:DAYLIGHT
TZOFFSETFROM:-0500
TZOFFSETTO:-0400
TZNAME:EDT
DTSTART:20240310T070000
END:DAYLIGHT
BEGIN:STANDARD
TZOFFSETFROM:-0400
TZOFFSETTO:-0500
TZNAME:EST
DTSTART:20241103T060000
END:STANDARD
END:VTIMEZONE
BEGIN:VEVENT
DTSTART;TZID=America/New_York:20240727T160000
DTEND;TZID=America/New_York:20240727T190000
DTSTAMP:20260419T100802
CREATED:20240725T120512Z
LAST-MODIFIED:20240725T120512Z
UID:30320-1722096000-1722106800@eastendlocal.com
SUMMARY:Reception for 'Women of Substance' at William Ris Gallery
DESCRIPTION:The William Ris Gallery is opening its doors for a special reception on July 27\, honoring three artists: Julie Friedman\, Deborah Katz\, and Stacey Schuman. Each of these artists draws their inspiration from nature and is dedicated to preserving it. Their artwork\, a reflection of their individual impressions of the environment\, will be on display for the first time at the gallery. The reception also marks the gallery’s ninth summer on the East End. The artworks are hung and ready for preview. The gallery is open from Thursday to Monday\, between noon and 5 p.m. The reception is free to attend.
URL:https://eastendlocal.com/event/reception-for-women-of-substance-at-william-ris-gallery/
LOCATION:William Ris Gallery\, 1291 Main Road\, Jamesport\, NY\, 11947\, United States
CATEGORIES:Exhibits & Receptions
END:VEVENT
END:VCALENDAR