BEGIN:VCALENDAR
VERSION:2.0
PRODID:-//East End LOCAL - ECPv6.11.2//NONSGML v1.0//EN
CALSCALE:GREGORIAN
METHOD:PUBLISH
X-WR-CALNAME:East End LOCAL
X-ORIGINAL-URL:https://eastendlocal.com
X-WR-CALDESC:Events for East End LOCAL
REFRESH-INTERVAL;VALUE=DURATION:PT1H
X-Robots-Tag:noindex
X-PUBLISHED-TTL:PT1H
BEGIN:VTIMEZONE
TZID:America/New_York
BEGIN:DAYLIGHT
TZOFFSETFROM:-0500
TZOFFSETTO:-0400
TZNAME:EDT
DTSTART:20250309T070000
END:DAYLIGHT
BEGIN:STANDARD
TZOFFSETFROM:-0400
TZOFFSETTO:-0500
TZNAME:EST
DTSTART:20251102T060000
END:STANDARD
END:VTIMEZONE
BEGIN:VEVENT
DTSTART;TZID=America/New_York:20250218T100000
DTEND;TZID=America/New_York:20250218T160000
DTSTAMP:20260423T065310
CREATED:20250202T152331Z
LAST-MODIFIED:20250214T180842Z
UID:31089-1739872800-1739894400@eastendlocal.com
SUMMARY:Teeth time with Stony Brook School of Dental Medicine
DESCRIPTION:Stop by Riverhead Free Library on Tuesday\, Feb. 18 from 10 a.m. to 1 p.m. or 2 to 4 p.m. to meet the Pediatric Dental Residents and General Practice Residents from the Stony Brook School of Dental Medicine. These dedicated professionals provide care at the Stony Brook Dental School and the Mobile Dental Clinic\, which serves the Riverhead Elementary schools. Learn about dental health\, ask questions\, and discover how they support our community’s oral care.  Riverhead Free Library is located at 330 Court Street\, Riverhead.
URL:https://eastendlocal.com/event/select-teeth-time-with-stony-brook-school-of-dental-medicine/
LOCATION:Riverhead Free Library\, Riverhead\, NY\, 11901\, United States
CATEGORIES:Book Talks & Signings,Children,Health,Library Events,Parents,Teens,Trips
ATTACH;FMTTYPE=image/jpeg:https://eastendlocal.com/wp-content/uploads/2025/02/tooth-cartoon.jpeg
GEO:40.9170435;-72.6620402
END:VEVENT
END:VCALENDAR