BEGIN:VCALENDAR
VERSION:2.0
PRODID:-//East End LOCAL - ECPv6.11.2//NONSGML v1.0//EN
CALSCALE:GREGORIAN
METHOD:PUBLISH
X-WR-CALNAME:East End LOCAL
X-ORIGINAL-URL:https://eastendlocal.com
X-WR-CALDESC:Events for East End LOCAL
REFRESH-INTERVAL;VALUE=DURATION:PT1H
X-Robots-Tag:noindex
X-PUBLISHED-TTL:PT1H
BEGIN:VTIMEZONE
TZID:America/New_York
BEGIN:DAYLIGHT
TZOFFSETFROM:-0500
TZOFFSETTO:-0400
TZNAME:EDT
DTSTART:20240310T070000
END:DAYLIGHT
BEGIN:STANDARD
TZOFFSETFROM:-0400
TZOFFSETTO:-0500
TZNAME:EST
DTSTART:20241103T060000
END:STANDARD
END:VTIMEZONE
BEGIN:VEVENT
DTSTART;TZID=America/New_York:20240615T200000
DTEND;TZID=America/New_York:20240615T220000
DTSTAMP:20260419T202519
CREATED:20240601T123444Z
LAST-MODIFIED:20240601T123444Z
UID:10010484-1718481600-1718488800@eastendlocal.com
SUMMARY:The Complete Works of William Shakespeare (Abridged) by Northeast Stage
DESCRIPTION:Northeast Stage and Corchaug Repertory Theatre are presenting a unique take on the Complete Works of William Shakespeare. This high-energy romp through the Bard’s collected plays is unlike anything you’ve seen before. Whether you’re a longtime aficionado or you’ve never seen a play by Shakespeare\, this event promises something for everyone. The performances will feature Grace Marie Johnson\, Nancee Moes\, and Christopher Fretto as they rocket through Shakespeare’s 37 plays in just 97 minutes. This event is not free to attend\, with tickets priced at $20. Please note that the performances will be held at the Holy Trinity Episcopal Church in Greenport. For more information\, call 631-407-0539 or visit www.northeaststage.org.
URL:https://eastendlocal.com/event/the-complete-works-of-william-shakespeare-abridged-by-northeast-stage-3/2024-06-15/
LOCATION:Holy Trinity Church\, 768 Main Street\, Greenport\,
CATEGORIES:Theater
GEO:41.1094172;-72.3633148
X-APPLE-STRUCTURED-LOCATION;VALUE=URI;X-ADDRESS=Holy Trinity Church 768 Main Street Greenport;X-APPLE-RADIUS=500;X-TITLE=768 Main Street\, Greenport\,:geo:-72.3633148,41.1094172
END:VEVENT
END:VCALENDAR