BEGIN:VCALENDAR
VERSION:2.0
PRODID:-//East End LOCAL - ECPv6.11.2//NONSGML v1.0//EN
CALSCALE:GREGORIAN
METHOD:PUBLISH
X-WR-CALNAME:East End LOCAL
X-ORIGINAL-URL:https://eastendlocal.com
X-WR-CALDESC:Events for East End LOCAL
REFRESH-INTERVAL;VALUE=DURATION:PT1H
X-Robots-Tag:noindex
X-PUBLISHED-TTL:PT1H
BEGIN:VTIMEZONE
TZID:America/New_York
BEGIN:DAYLIGHT
TZOFFSETFROM:-0500
TZOFFSETTO:-0400
TZNAME:EDT
DTSTART:20250309T070000
END:DAYLIGHT
BEGIN:STANDARD
TZOFFSETFROM:-0400
TZOFFSETTO:-0500
TZNAME:EST
DTSTART:20251102T060000
END:STANDARD
END:VTIMEZONE
BEGIN:VEVENT
DTSTART;TZID=America/New_York:20251206T193000
DTEND;TZID=America/New_York:20251206T213000
DTSTAMP:20260419T084417
CREATED:20251120T222129Z
LAST-MODIFIED:20251120T222129Z
UID:10014798-1765049400-1765056600@eastendlocal.com
SUMMARY:East End Jazz Presents: Holiday Songs Around the World
DESCRIPTION:East End Jazz is hosting a unique performance titled “Holiday Songs Around the World” on Saturday\, Dec. 6. This program\, driven by a deep interest in global culture and music\, offers a selection of winter and celebration songs from various countries\, all presented with a unique jazz interpretation. It’s an opportunity for listeners to be open-minded and sink into songs they may never have heard\, or to connect with the root melodies of their own heritage. The concert’s global selections include songs like “He Xin Nian” (China’s New Year’s song)\, “Räven Raskar Över Isen” (from Sweden)\, “Talj\, Talj” (from Lebanon)\, and “Ner Li” (from Israel). The performance will also feature classic and traditional pieces\, such as the renowned Austrian carol “Stille Nacht\, Heilige Nacht” (Silent Night)\, along with other timeless classics. Additionally\, you will discover music tied to unique winter celebrations\, including a piece for Japan’s winter solstice\, “Toji.” These lesser-known gems will be performed alongside some timeless classics\, all infused with the dynamic spirit of jazz that East End Jazz is known for. The program will transport you with a selection of holiday songs that highlight the cultural richness of different countries\, moving beyond the familiar to explore some truly unique musical gems. This program is perfect for music lovers\, and anyone curious about exploring the world through the wonderful language of jazz.
URL:https://eastendlocal.com/event/east-end-jazz-presents-holiday-songs-around-the-world/
LOCATION:Jamesport Meeting House\, 1590 Main Road\, Jamesport\, NY\, 11947\, United States
CATEGORIES:Music
ATTACH;FMTTYPE=image/png:https://eastendlocal.com/wp-content/uploads/2025/11/2025_11_10_East_End_Jazz_Presents_Holiday_Songs_Around_the_World-0.png
GEO:40.9495443;-72.58148
X-APPLE-STRUCTURED-LOCATION;VALUE=URI;X-ADDRESS=Jamesport Meeting House 1590 Main Road Jamesport NY 11947 United States;X-APPLE-RADIUS=500;X-TITLE=1590 Main Road:geo:-72.58148,40.9495443
END:VEVENT
END:VCALENDAR