BEGIN:VCALENDAR
VERSION:2.0
PRODID:-//East End LOCAL - ECPv6.11.2//NONSGML v1.0//EN
CALSCALE:GREGORIAN
METHOD:PUBLISH
X-WR-CALNAME:East End LOCAL
X-ORIGINAL-URL:https://eastendlocal.com
X-WR-CALDESC:Events for East End LOCAL
REFRESH-INTERVAL;VALUE=DURATION:PT1H
X-Robots-Tag:noindex
X-PUBLISHED-TTL:PT1H
BEGIN:VTIMEZONE
TZID:America/New_York
BEGIN:DAYLIGHT
TZOFFSETFROM:-0500
TZOFFSETTO:-0400
TZNAME:EDT
DTSTART:20260308T070000
END:DAYLIGHT
BEGIN:STANDARD
TZOFFSETFROM:-0400
TZOFFSETTO:-0500
TZNAME:EST
DTSTART:20261101T060000
END:STANDARD
END:VTIMEZONE
BEGIN:VEVENT
DTSTART;TZID=America/New_York:20260508T200000
DTEND;TZID=America/New_York:20260508T212500
DTSTAMP:20260423T073043
CREATED:20260207T124033Z
LAST-MODIFIED:20260207T124033Z
UID:10015940-1778270400-1778275500@eastendlocal.com
SUMMARY:Italian Bred — Theatrical Comedy with Candice Guardino
DESCRIPTION:Candice Guardino brings her hit theatrical comedy\, “Italian Bred\,” to the Suffolk. In this 85-minute show\, Guardino draws on her real childhood experiences growing up in Staten Island\, shifting between family impersonations and stories from her upbringing. The performance includes singing familiar tunes and audience interaction with virtual celebrity cameos.
URL:https://eastendlocal.com/event/italian-bred-theatrical-comedy-with-candice-guardino/
LOCATION:The Suffolk\, 118 East Main Street\, Riverhead\, NY\, 11901\, US
CATEGORIES:Comedy
GEO:40.9177762;-72.6605032
X-APPLE-STRUCTURED-LOCATION;VALUE=URI;X-ADDRESS=The Suffolk 118 East Main Street Riverhead NY 11901 US;X-APPLE-RADIUS=500;X-TITLE=118 East Main Street:geo:-72.6605032,40.9177762
END:VEVENT
BEGIN:VEVENT
DTSTART;TZID=America/New_York:20260524T200000
DTEND;TZID=America/New_York:20260524T220000
DTSTAMP:20260423T073043
CREATED:20260331T213515Z
LAST-MODIFIED:20260331T213515Z
UID:10016136-1779652800-1779660000@eastendlocal.com
SUMMARY:Lords of 52nd Street (legends of the Billy Joel band) at the Suffolk
DESCRIPTION:Lords of 52nd Street\, billed as “legends of the Billy Joel Band\,” brings Billy Joel’s catalog to the Suffolk. The group features Liberty DeVitto on drums and Russell Javors on rhythm guitar\, musicians heard on Joel’s albums “Turnstiles\,” “The Stranger\,” “52nd Street” and “Glass Houses\,” along with No. 1 singles including “Only the Good Die Young” and “Just the Way You Are.” \nThe band recorded and toured with Joel for more than a decade and performs the hits as they were recorded.
URL:https://eastendlocal.com/event/lords-of-52nd-street-legends-of-the-billy-joel-band-at-the-suffolk/
LOCATION:The Suffolk\, 118 East Main Street\, Riverhead\, NY\, 11901\, US
CATEGORIES:Music
GEO:40.9177762;-72.6605032
X-APPLE-STRUCTURED-LOCATION;VALUE=URI;X-ADDRESS=The Suffolk 118 East Main Street Riverhead NY 11901 US;X-APPLE-RADIUS=500;X-TITLE=118 East Main Street:geo:-72.6605032,40.9177762
END:VEVENT
BEGIN:VEVENT
DTSTART;TZID=America/New_York:20260627T200000
DTEND;TZID=America/New_York:20260627T213000
DTSTAMP:20260423T073043
CREATED:20260415T124943Z
LAST-MODIFIED:20260415T124943Z
UID:10016180-1782590400-1782595800@eastendlocal.com
SUMMARY:The Doo Wop Project: “Echoes of the Street” at the Suffolk
DESCRIPTION:The Doo Wop Project brings its new show\, “Echoes of the Street\,” to the Suffolk for two performances. \nThe group’s Broadway veterans perform classic doo-wop favorites backed by a live band\, along with “doo-wop-ified” versions of contemporary hits reimagined as if they were written during the doo-wop era. The 90-minute program includes songs such as “Whispering Bells\,” “So Much in Love\,” “Blue Moon\,” “Sherry\,” and “My Girl\,” plus updated takes on music by artists including Taylor Swift\, Pharrell Williams\, Daft Punk and Chris Stapleton.
URL:https://eastendlocal.com/event/the-doo-wop-project-echoes-of-the-street-at-the-suffolk/2026-06-27/
LOCATION:The Suffolk\, 118 East Main Street\, Riverhead\, NY\, 11901\, US
CATEGORIES:Music
GEO:40.9177762;-72.6605032
X-APPLE-STRUCTURED-LOCATION;VALUE=URI;X-ADDRESS=The Suffolk 118 East Main Street Riverhead NY 11901 US;X-APPLE-RADIUS=500;X-TITLE=118 East Main Street:geo:-72.6605032,40.9177762
END:VEVENT
BEGIN:VEVENT
DTSTART;TZID=America/New_York:20260628T200000
DTEND;TZID=America/New_York:20260628T213000
DTSTAMP:20260423T073043
CREATED:20260415T124943Z
LAST-MODIFIED:20260415T124943Z
UID:10016181-1782676800-1782682200@eastendlocal.com
SUMMARY:The Doo Wop Project: “Echoes of the Street” at the Suffolk
DESCRIPTION:The Doo Wop Project brings its new show\, “Echoes of the Street\,” to the Suffolk for two performances. \nThe group’s Broadway veterans perform classic doo-wop favorites backed by a live band\, along with “doo-wop-ified” versions of contemporary hits reimagined as if they were written during the doo-wop era. The 90-minute program includes songs such as “Whispering Bells\,” “So Much in Love\,” “Blue Moon\,” “Sherry\,” and “My Girl\,” plus updated takes on music by artists including Taylor Swift\, Pharrell Williams\, Daft Punk and Chris Stapleton.
URL:https://eastendlocal.com/event/the-doo-wop-project-echoes-of-the-street-at-the-suffolk/2026-06-28/
LOCATION:The Suffolk\, 118 East Main Street\, Riverhead\, NY\, 11901\, US
CATEGORIES:Music
GEO:40.9177762;-72.6605032
X-APPLE-STRUCTURED-LOCATION;VALUE=URI;X-ADDRESS=The Suffolk 118 East Main Street Riverhead NY 11901 US;X-APPLE-RADIUS=500;X-TITLE=118 East Main Street:geo:-72.6605032,40.9177762
END:VEVENT
BEGIN:VEVENT
DTSTART;TZID=America/New_York:20260709T200000
DTEND;TZID=America/New_York:20260709T213000
DTSTAMP:20260423T073043
CREATED:20260415T124957Z
LAST-MODIFIED:20260415T124957Z
UID:10016179-1783627200-1783632600@eastendlocal.com
SUMMARY:Dio Rules: Tribute to Rainbow\, Black Sabbath and Dio
DESCRIPTION:Dio Rules brings a 90-minute tribute concert to the Suffolk celebrating the music of Ronnie James Dio across his work with Rainbow\, Black Sabbath and Dio. \nThe set draws from the decade between 1975 and 1985 and includes songs such as “Man on the Silver Mountain\,” “Heaven and Hell\,” “Holy Diver” and “Rainbow in the Dark.” \nThe band features vocalist Andrew Freeman\, guitarist Angus Clark and drummer Matt Starr. A portion of each ticket sold benefits the Ronnie James Dio Stand Up and Shout Cancer Fund.
URL:https://eastendlocal.com/event/dio-rules-tribute-to-rainbow-black-sabbath-and-dio/
LOCATION:The Suffolk\, 118 East Main Street\, Riverhead\, NY\, 11901\, US
CATEGORIES:Music
GEO:40.9177762;-72.6605032
X-APPLE-STRUCTURED-LOCATION;VALUE=URI;X-ADDRESS=The Suffolk 118 East Main Street Riverhead NY 11901 US;X-APPLE-RADIUS=500;X-TITLE=118 East Main Street:geo:-72.6605032,40.9177762
END:VEVENT
BEGIN:VEVENT
DTSTART;TZID=America/New_York:20260710T200000
DTEND;TZID=America/New_York:20260710T220000
DTSTAMP:20260423T073043
CREATED:20260306T120453Z
LAST-MODIFIED:20260306T120453Z
UID:10016052-1783713600-1783720800@eastendlocal.com
SUMMARY:Dirty Deeds: The AC/DC Experience at the Suffolk
DESCRIPTION:Dirty Deeds brings its AC/DC tribute show to the Suffolk for 2 nights. The band performs a set of AC/DC hits and material drawn from the early rock influences that shaped the group’s sound. \nThe production includes interactive video\, concert-style lighting and theatrical props\, with the performers recreating AC/DC’s onstage look and mannerisms as part of the show.
URL:https://eastendlocal.com/event/dirty-deeds-the-ac-dc-experience-at-the-suffolk/2026-07-10/
LOCATION:The Suffolk\, 118 East Main Street\, Riverhead\, NY\, 11901\, US
CATEGORIES:Music
GEO:40.9177762;-72.6605032
X-APPLE-STRUCTURED-LOCATION;VALUE=URI;X-ADDRESS=The Suffolk 118 East Main Street Riverhead NY 11901 US;X-APPLE-RADIUS=500;X-TITLE=118 East Main Street:geo:-72.6605032,40.9177762
END:VEVENT
BEGIN:VEVENT
DTSTART;TZID=America/New_York:20260711T200000
DTEND;TZID=America/New_York:20260711T220000
DTSTAMP:20260423T073043
CREATED:20260306T120453Z
LAST-MODIFIED:20260306T120453Z
UID:10016053-1783800000-1783807200@eastendlocal.com
SUMMARY:Dirty Deeds: The AC/DC Experience at the Suffolk
DESCRIPTION:Dirty Deeds brings its AC/DC tribute show to the Suffolk for 2 nights. The band performs a set of AC/DC hits and material drawn from the early rock influences that shaped the group’s sound. \nThe production includes interactive video\, concert-style lighting and theatrical props\, with the performers recreating AC/DC’s onstage look and mannerisms as part of the show.
URL:https://eastendlocal.com/event/dirty-deeds-the-ac-dc-experience-at-the-suffolk/2026-07-11/
LOCATION:The Suffolk\, 118 East Main Street\, Riverhead\, NY\, 11901\, US
CATEGORIES:Music
GEO:40.9177762;-72.6605032
X-APPLE-STRUCTURED-LOCATION;VALUE=URI;X-ADDRESS=The Suffolk 118 East Main Street Riverhead NY 11901 US;X-APPLE-RADIUS=500;X-TITLE=118 East Main Street:geo:-72.6605032,40.9177762
END:VEVENT
BEGIN:VEVENT
DTSTART;TZID=America/New_York:20260718T200000
DTEND;TZID=America/New_York:20260718T220000
DTSTAMP:20260423T073043
CREATED:20260306T120038Z
LAST-MODIFIED:20260306T120038Z
UID:10016104-1784404800-1784412000@eastendlocal.com
SUMMARY:New York Bee Gees at the Suffolk
DESCRIPTION:The New York Bee Gees Tribute Show brings its Bee Gees concert tribute to the Suffolk\, performing songs from across the group’s catalog. \nThe set includes 1970s disco hits such as “Stayin’ Alive” and “Night Fever\,” along with earlier favorites including “To Love Somebody\,” “I’ve Got a Message to You” and “Massachusetts.” The band is made up of Long Island-based musicians with credits that include touring and recording work with acts such as the Alan Parsons Project\, the Happy Together Tour\, Meat Loaf\, Queen\, Blue Öyster Cult\, Riot\, Herman’s Hermits\, Enrique Iglesias and the Rippingtons. \nTickets are available online and through the box office.
URL:https://eastendlocal.com/event/new-york-bee-gees-at-the-suffolk/
LOCATION:The Suffolk\, 118 East Main Street\, Riverhead\, NY\, 11901\, US
CATEGORIES:Music
GEO:40.9177762;-72.6605032
X-APPLE-STRUCTURED-LOCATION;VALUE=URI;X-ADDRESS=The Suffolk 118 East Main Street Riverhead NY 11901 US;X-APPLE-RADIUS=500;X-TITLE=118 East Main Street:geo:-72.6605032,40.9177762
END:VEVENT
END:VCALENDAR