BEGIN:VCALENDAR
VERSION:2.0
PRODID:-//East End LOCAL - ECPv6.11.2//NONSGML v1.0//EN
CALSCALE:GREGORIAN
METHOD:PUBLISH
X-WR-CALNAME:East End LOCAL
X-ORIGINAL-URL:https://eastendlocal.com
X-WR-CALDESC:Events for East End LOCAL
REFRESH-INTERVAL;VALUE=DURATION:PT1H
X-Robots-Tag:noindex
X-PUBLISHED-TTL:PT1H
BEGIN:VTIMEZONE
TZID:America/New_York
BEGIN:DAYLIGHT
TZOFFSETFROM:-0500
TZOFFSETTO:-0400
TZNAME:EDT
DTSTART:20250309T070000
END:DAYLIGHT
BEGIN:STANDARD
TZOFFSETFROM:-0400
TZOFFSETTO:-0500
TZNAME:EST
DTSTART:20251102T060000
END:STANDARD
END:VTIMEZONE
BEGIN:VEVENT
DTSTART;TZID=America/New_York:20250516T170000
DTEND;TZID=America/New_York:20250516T200000
DTSTAMP:20260419T084947
CREATED:20250510T104951Z
LAST-MODIFIED:20250510T104951Z
UID:10013297-1747414800-1747425600@eastendlocal.com
SUMMARY:Family Game Night at Unitarian Universalists of Southold
DESCRIPTION:Join the Unitarian Universalists of Southold for a fun-filled Family Game Night on Friday\, May 16. The event will run from 5 to 8 p.m. Attendees can look forward to a free spaghetti dinner\, adding a delicious touch to the evening. Additionally\, there will be a 50/50 raffle\, offering a chance to win some exciting prizes. While the event is free to attend\, donations are graciously accepted and will contribute to the community’s initiatives. Don’t miss this opportunity to spend an enjoyable evening with family and friends\, filled with games\, food\, and community spirit.
URL:https://eastendlocal.com/event/family-game-night-at-unitarian-universalists-of-southold/
LOCATION:Unitarian Universalists of Southold\, 51900 Main Road\, Southold\, NY\, US
CATEGORIES:Children
END:VEVENT
BEGIN:VEVENT
DTSTART;TZID=America/New_York:20250322T173000
DTEND;TZID=America/New_York:20250322T190000
DTSTAMP:20260419T084947
CREATED:20250315T111433Z
LAST-MODIFIED:20250315T111433Z
UID:10012608-1742664600-1742670000@eastendlocal.com
SUMMARY:Bring the Heat! Chili Cook-Off at Unitarian Universalists of Southold
DESCRIPTION:The Unitarian Universalists of Southold are hosting a Chili Cook-Off event titled ‘Bring the Heat!’ on Saturday\, March 22. The event begins at 5:30 p.m.\, with chili sampling available from 5:30 to 7 p.m. Participants will compete for the ‘Hot Prize’ awarded to the best chili. \nTicket prices are as follows:\n– $20 for a sample of each chili and cornbread\n– $10 for kids aged four to 10\n– Free for children three and under \nSoft drinks and cookies will be provided\, but attendees are welcome to bring their own alcoholic beverages if desired. Tickets can be purchased at the venue located at 51900 Main Road\, Southold\, during specific pick-up times\, at the door (unless sold out)\, or online at Eventbrite. \nIn addition to the chili competition\, there will also be a 50/50 raffle where attendees have the chance to win cash prizes.
URL:https://eastendlocal.com/event/bring-the-heat-chili-cook-off-at-unitarian-universalists-of-southold/
LOCATION:Unitarian Universalists of Southold\, 51900 Main Road\, Southold\, NY\, US
CATEGORIES:Food and Drink
END:VEVENT
END:VCALENDAR