BEGIN:VCALENDAR
VERSION:2.0
PRODID:-//East End LOCAL - ECPv6.11.2//NONSGML v1.0//EN
CALSCALE:GREGORIAN
METHOD:PUBLISH
X-WR-CALNAME:East End LOCAL
X-ORIGINAL-URL:https://eastendlocal.com
X-WR-CALDESC:Events for East End LOCAL
REFRESH-INTERVAL;VALUE=DURATION:PT1H
X-Robots-Tag:noindex
X-PUBLISHED-TTL:PT1H
BEGIN:VTIMEZONE
TZID:America/New_York
BEGIN:DAYLIGHT
TZOFFSETFROM:-0500
TZOFFSETTO:-0400
TZNAME:EDT
DTSTART:20250309T070000
END:DAYLIGHT
BEGIN:STANDARD
TZOFFSETFROM:-0400
TZOFFSETTO:-0500
TZNAME:EST
DTSTART:20251102T060000
END:STANDARD
END:VTIMEZONE
BEGIN:VEVENT
DTSTART;TZID=America/New_York:20250208T100000
DTEND;TZID=America/New_York:20250208T150000
DTSTAMP:20260421T045111
CREATED:20250105T144721Z
LAST-MODIFIED:20250105T144721Z
UID:10012177-1739008800-1739026800@eastendlocal.com
SUMMARY:Southold WinterFest 2025
DESCRIPTION:Southold WinterFest 2025 is a free event open to all residents and visitors. The event\, organized by Southold EDC\, is a celebration of local businesses and organizations. With 50 exhibits featuring local merchants\, there’s something for everyone to enjoy.  \nThe WinterFest will also include: \n– Live entertainment\n– Free food and beverage samples\n– Fun activities for both adults and children\n– Special events and prizes \nThis is a great opportunity to enjoy the winter season while supporting local businesses and community organizations. Don’t miss out on this festive event in the village of Southold.
URL:https://eastendlocal.com/event/southold-winterfest-2025/
LOCATION:Southold EDC\, Main Road\, Southold\, NY\, US
CATEGORIES:Fairs & Festivals,Food and Drink,Galas and Events
ATTACH;FMTTYPE=image/jpeg:https://eastendlocal.com/wp-content/uploads/2024/12/2024_12_10_Southold_WinterFest_2025-0.jpg
END:VEVENT
END:VCALENDAR